{
 "currentVersion": 10.9,
 "cimVersion": "2.7.0",
 "serviceDescription": "سلطة النقد الفلسطينية -اعداد وتنفيذ شركة الراعي الصالح",
 "mapName": "PalestineBaseMap",
 "description": "سلطة النقد الفلسطينية -اعداد وتنفيذ شركة الراعي الصالح",
 "copyrightText": "سلطة النقد الفلسطينية -اعداد وتنفيذ شركة الراعي الصالح",
 "supportsDynamicLayers": true,
 "layers": [
  {
   "id": 0,
   "name": "المحافظات الفلسطينية",
   "parentLayerId": -1,
   "defaultVisibility": true,
   "subLayerIds": null,
   "minScale": 0,
   "maxScale": 30000,
   "type": "Feature Layer",
   "geometryType": "esriGeometryPolygon",
   "supportsDynamicLegends": true
  },
  {
   "id": 1,
   "name": "التجمعات السكانية الفلسطينية",
   "parentLayerId": -1,
   "defaultVisibility": true,
   "subLayerIds": [
    2,
    3,
    4
   ],
   "minScale": 0,
   "maxScale": 0,
   "type": "Group Layer",
   "supportsDynamicLegends": false
  },
  {
   "id": 2,
   "name": "التجمعات السكانية",
   "parentLayerId": 1,
   "defaultVisibility": true,
   "subLayerIds": null,
   "minScale": 0,
   "maxScale": 1800001,
   "type": "Feature Layer",
   "geometryType": "esriGeometryPolygon",
   "supportsDynamicLegends": true
  },
  {
   "id": 3,
   "name": "التجمعات السكانية",
   "parentLayerId": 1,
   "defaultVisibility": true,
   "subLayerIds": null,
   "minScale": 1800000,
   "maxScale": 450001,
   "type": "Feature Layer",
   "geometryType": "esriGeometryPolygon",
   "supportsDynamicLegends": true
  },
  {
   "id": 4,
   "name": "التجمعات السكانية",
   "parentLayerId": 1,
   "defaultVisibility": true,
   "subLayerIds": null,
   "minScale": 450000,
   "maxScale": 0,
   "type": "Feature Layer",
   "geometryType": "esriGeometryPolygon",
   "supportsDynamicLegends": true
  },
  {
   "id": 5,
   "name": "مناطق تحت السيطرة الاسرائيلية",
   "parentLayerId": -1,
   "defaultVisibility": true,
   "subLayerIds": [
    6,
    7,
    8,
    9,
    10
   ],
   "minScale": 1400000,
   "maxScale": 0,
   "type": "Group Layer",
   "supportsDynamicLegends": false
  },
  {
   "id": 6,
   "name": "التجمعات السكانية في الداخل",
   "parentLayerId": 5,
   "defaultVisibility": true,
   "subLayerIds": null,
   "minScale": 0,
   "maxScale": 0,
   "type": "Feature Layer",
   "geometryType": "esriGeometryPolygon",
   "supportsDynamicLegends": true
  },
  {
   "id": 7,
   "name": " مستوطنات متفرقة",
   "parentLayerId": 5,
   "defaultVisibility": true,
   "subLayerIds": null,
   "minScale": 300000,
   "maxScale": 0,
   "type": "Feature Layer",
   "geometryType": "esriGeometryPolygon",
   "supportsDynamicLegends": true
  },
  {
   "id": 8,
   "name": "حدود البناء في المستوطنات",
   "parentLayerId": 5,
   "defaultVisibility": true,
   "subLayerIds": null,
   "minScale": 450000,
   "maxScale": 0,
   "type": "Feature Layer",
   "geometryType": "esriGeometryPolygon",
   "supportsDynamicLegends": true
  },
  {
   "id": 9,
   "name": "الحد الخارجي للمستوطنات",
   "parentLayerId": 5,
   "defaultVisibility": true,
   "subLayerIds": null,
   "minScale": 25000,
   "maxScale": 0,
   "type": "Feature Layer",
   "geometryType": "esriGeometryPolygon",
   "supportsDynamicLegends": true
  },
  {
   "id": 10,
   "name": "مناطق باحكام خاصة",
   "parentLayerId": 5,
   "defaultVisibility": true,
   "subLayerIds": [
    11
   ],
   "minScale": 800000,
   "maxScale": 0,
   "type": "Group Layer",
   "supportsDynamicLegends": false
  },
  {
   "id": 11,
   "name": "غور الاردن - المناطق المحظورة",
   "parentLayerId": 10,
   "defaultVisibility": true,
   "subLayerIds": null,
   "minScale": 0,
   "maxScale": 0,
   "type": "Feature Layer",
   "geometryType": "esriGeometryPolygon",
   "supportsDynamicLegends": true
  },
  {
   "id": 12,
   "name": "المياه",
   "parentLayerId": -1,
   "defaultVisibility": true,
   "subLayerIds": null,
   "minScale": 0,
   "maxScale": 0,
   "type": "Feature Layer",
   "geometryType": "esriGeometryPolygon",
   "supportsDynamicLegends": true
  },
  {
   "id": 13,
   "name": "الدول المجاورة",
   "parentLayerId": -1,
   "defaultVisibility": true,
   "subLayerIds": null,
   "minScale": 0,
   "maxScale": 0,
   "type": "Feature Layer",
   "geometryType": "esriGeometryPolygon",
   "supportsDynamicLegends": true
  },
  {
   "id": 14,
   "name": "حدود الدولة",
   "parentLayerId": -1,
   "defaultVisibility": true,
   "subLayerIds": null,
   "minScale": 0,
   "maxScale": 0,
   "type": "Feature Layer",
   "geometryType": "esriGeometryPolygon",
   "supportsDynamicLegends": true
  }
 ],
 "tables": [],
 "spatialReference": {
  "wkid": 28191,
  "latestWkid": 28191,
  "xyTolerance": 0.001,
  "zTolerance": 0.001,
  "mTolerance": 0.001,
  "falseX": -4839400,
  "falseY": -13387400,
  "xyUnits": 10000,
  "falseZ": -100000,
  "zUnits": 10000,
  "falseM": -100000,
  "mUnits": 10000
 },
 "singleFusedMapCache": true,
 "tileInfo": {
  "rows": 256,
  "cols": 256,
  "dpi": 96,
  "format": "PNG",
  "compressionQuality": 0,
  "origin": {
   "x": -9831696.349903587,
   "y": 6616688.127449962
  },
  "spatialReference": {
   "wkid": 28191,
   "latestWkid": 28191,
   "xyTolerance": 0.001,
   "zTolerance": 0.001,
   "mTolerance": 0.001,
   "falseX": -4839400,
   "falseY": -13387400,
   "xyUnits": 10000,
   "falseZ": -100000,
   "zUnits": 10000,
   "falseM": -100000,
   "mUnits": 10000
  },
  "lods": [
   {
    "level": 0,
    "resolution": 78140.21800705927,
    "scale": 2.953331074282555E8
   },
   {
    "level": 1,
    "resolution": 39070.10900352964,
    "scale": 1.4766655371412775E8
   },
   {
    "level": 2,
    "resolution": 19535.05450176482,
    "scale": 7.383327685706387E7
   },
   {
    "level": 3,
    "resolution": 9767.52725088241,
    "scale": 3.691663842853194E7
   },
   {
    "level": 4,
    "resolution": 4883.763625441205,
    "scale": 1.845831921426597E7
   },
   {
    "level": 5,
    "resolution": 2441.8818127206023,
    "scale": 9229159.607132984
   },
   {
    "level": 6,
    "resolution": 1220.9409063603011,
    "scale": 4614579.803566492
   },
   {
    "level": 7,
    "resolution": 610.4704531801506,
    "scale": 2307289.901783246
   },
   {
    "level": 8,
    "resolution": 305.2352265900753,
    "scale": 1153644.950891623
   },
   {
    "level": 9,
    "resolution": 152.61761329503764,
    "scale": 576822.4754458115
   },
   {
    "level": 10,
    "resolution": 76.30880664751882,
    "scale": 288411.23772290576
   },
   {
    "level": 11,
    "resolution": 38.15440332375941,
    "scale": 144205.61886145288
   },
   {
    "level": 12,
    "resolution": 19.077201661879705,
    "scale": 72102.80943072644
   },
   {
    "level": 13,
    "resolution": 9.538600830939853,
    "scale": 36051.40471536322
   },
   {
    "level": 14,
    "resolution": 4.769300415469926,
    "scale": 18025.70235768161
   },
   {
    "level": 15,
    "resolution": 2.384650207734963,
    "scale": 9012.851178840805
   },
   {
    "level": 16,
    "resolution": 1.1923251038674816,
    "scale": 4506.4255894204025
   },
   {
    "level": 17,
    "resolution": 0.5961625519337408,
    "scale": 2253.2127947102013
   },
   {
    "level": 18,
    "resolution": 0.2980812759668704,
    "scale": 1126.6063973551006
   }
  ]
 },
 "initialExtent": {
  "xmin": -46671.45711213039,
  "ymin": 7573.042578619788,
  "xmax": 337112.619723695,
  "ymax": 294200.970233484,
  "spatialReference": {
   "wkid": 28191,
   "latestWkid": 28191,
   "xyTolerance": 0.001,
   "zTolerance": 0.001,
   "mTolerance": 0.001,
   "falseX": -4839400,
   "falseY": -13387400,
   "xyUnits": 10000,
   "falseZ": -100000,
   "zUnits": 10000,
   "falseM": -100000,
   "mUnits": 10000
  }
 },
 "fullExtent": {
  "xmin": -240567.92059813917,
  "ymin": -100473.46045083125,
  "xmax": 484817.61268658633,
  "ymax": 327427.8482256571,
  "spatialReference": {
   "wkid": 28191,
   "latestWkid": 28191,
   "xyTolerance": 0.001,
   "zTolerance": 0.001,
   "mTolerance": 0.001,
   "falseX": -4839400,
   "falseY": -13387400,
   "xyUnits": 10000,
   "falseZ": -100000,
   "zUnits": 10000,
   "falseM": -100000,
   "mUnits": 10000
  }
 },
 "minScale": 4614579.803566492,
 "maxScale": 1126.6063973551006,
 "units": "esriMeters",
 "supportedImageFormatTypes": "PNG32,PNG24,PNG,JPG,DIB,TIFF,EMF,PS,PDF,GIF,SVG,SVGZ,BMP",
 "documentInfo": {
  "Title": "PMA_Public.aprx",
  "Author": "",
  "Comments": "سلطة النقد الفلسطينية -اعداد وتنفيذ شركة الراعي الصالح",
  "Subject": "سلطة النقد الفلسطينية -اعداد وتنفيذ شركة الراعي الصالح",
  "Category": "",
  "AntialiasingMode": "None",
  "TextAntialiasingMode": "Force",
  "Version": "2.8.0",
  "Keywords": "سلطة النقد الفلسطينية -اعداد وتنفيذ شركة الراعي الصالح"
 },
 "capabilities": "Map,Query,Data",
 "supportedQueryFormats": "JSON, geoJSON, PBF",
 "exportTilesAllowed": false,
 "referenceScale": 0.0,
 "datumTransformations": [
  {
   "geoTransforms": [
    {
     "wkid": 1071,
     "latestWkid": 1071,
     "transformForward": true,
     "name": "Palestine_1923_To_Israel_1"
    }
   ]
  },
  {
   "geoTransforms": [
    {
     "wkid": 1071,
     "latestWkid": 1071,
     "transformForward": false,
     "name": "Palestine_1923_To_Israel_1"
    }
   ]
  }
 ],
 "supportsDatumTransformation": true,
 "archivingInfo": {
  "supportsHistoricMoment": false
 },
 "supportsClipping": true,
 "supportsSpatialFilter": true,
 "supportsTimeRelation": true,
 "supportsQueryDataElements": true,
 "maxRecordCount": 2000,
 "maxImageHeight": 4096,
 "maxImageWidth": 4096,
 "supportedExtensions": "",
 "serviceItemId": "3324c777fe124e1a91da0074fad5ee01"
}
